BEGIN:VCALENDAR
VERSION:2.0
PRODID:-//Department of Bioengineering - ECPv6.15.18//NONSGML v1.0//EN
CALSCALE:GREGORIAN
METHOD:PUBLISH
X-WR-CALNAME:Department of Bioengineering
X-ORIGINAL-URL:https://bioe.northeastern.edu
X-WR-CALDESC:Events for Department of Bioengineering
REFRESH-INTERVAL;VALUE=DURATION:PT1H
X-Robots-Tag:noindex
X-PUBLISHED-TTL:PT1H
BEGIN:VTIMEZONE
TZID:America/New_York
BEGIN:DAYLIGHT
TZOFFSETFROM:-0500
TZOFFSETTO:-0400
TZNAME:EDT
DTSTART:20220313T070000
END:DAYLIGHT
BEGIN:STANDARD
TZOFFSETFROM:-0400
TZOFFSETTO:-0500
TZNAME:EST
DTSTART:20221106T060000
END:STANDARD
BEGIN:DAYLIGHT
TZOFFSETFROM:-0500
TZOFFSETTO:-0400
TZNAME:EDT
DTSTART:20230312T070000
END:DAYLIGHT
BEGIN:STANDARD
TZOFFSETFROM:-0400
TZOFFSETTO:-0500
TZNAME:EST
DTSTART:20231105T060000
END:STANDARD
BEGIN:DAYLIGHT
TZOFFSETFROM:-0500
TZOFFSETTO:-0400
TZNAME:EDT
DTSTART:20240310T070000
END:DAYLIGHT
BEGIN:STANDARD
TZOFFSETFROM:-0400
TZOFFSETTO:-0500
TZNAME:EST
DTSTART:20241103T060000
END:STANDARD
END:VTIMEZONE
BEGIN:VEVENT
DTSTART;TZID=America/New_York:20230614T090000
DTEND;TZID=America/New_York:20230614T170000
DTSTAMP:20260419T224112
CREATED:20230508T213630Z
LAST-MODIFIED:20230508T213630Z
UID:3380-1686733200-1686762000@bioe.northeastern.edu
SUMMARY:Bioengineering Research Symposium
DESCRIPTION:Join us for the annual bioengineering research symposium on June 14th\, 9am-5pm in the ISEC Atrium and Auditorium. There will be oral and poster presentations by students\, a 5-minute thesis competition and awards. \nAll are welcome!
URL:https://bioe.northeastern.edu/event/bioengineering-research-symposium/
LOCATION:ISEC Auditorium\, 805 Columbus Ave\, Boston\, MA\, 02115\, United States
ORGANIZER;CN="Bioengineering":MAILTO:bioe@northeastern.edu
GEO:42.3377049;-71.0870109
X-APPLE-STRUCTURED-LOCATION;VALUE=URI;X-ADDRESS=ISEC Auditorium 805 Columbus Ave Boston MA 02115 United States;X-APPLE-RADIUS=500;X-TITLE=805 Columbus Ave:geo:-71.0870109,42.3377049
END:VEVENT
END:VCALENDAR