BEGIN:VCALENDAR
VERSION:2.0
PRODID:-//Department of Bioengineering - ECPv6.15.18//NONSGML v1.0//EN
CALSCALE:GREGORIAN
METHOD:PUBLISH
X-WR-CALNAME:Department of Bioengineering
X-ORIGINAL-URL:https://bioe.northeastern.edu
X-WR-CALDESC:Events for Department of Bioengineering
REFRESH-INTERVAL;VALUE=DURATION:PT1H
X-Robots-Tag:noindex
X-PUBLISHED-TTL:PT1H
BEGIN:VTIMEZONE
TZID:America/New_York
BEGIN:DAYLIGHT
TZOFFSETFROM:-0500
TZOFFSETTO:-0400
TZNAME:EDT
DTSTART:20240310T070000
END:DAYLIGHT
BEGIN:STANDARD
TZOFFSETFROM:-0400
TZOFFSETTO:-0500
TZNAME:EST
DTSTART:20241103T060000
END:STANDARD
BEGIN:DAYLIGHT
TZOFFSETFROM:-0500
TZOFFSETTO:-0400
TZNAME:EDT
DTSTART:20250309T070000
END:DAYLIGHT
BEGIN:STANDARD
TZOFFSETFROM:-0400
TZOFFSETTO:-0500
TZNAME:EST
DTSTART:20251102T060000
END:STANDARD
BEGIN:DAYLIGHT
TZOFFSETFROM:-0500
TZOFFSETTO:-0400
TZNAME:EDT
DTSTART:20260308T070000
END:DAYLIGHT
BEGIN:STANDARD
TZOFFSETFROM:-0400
TZOFFSETTO:-0500
TZNAME:EST
DTSTART:20261101T060000
END:STANDARD
END:VTIMEZONE
BEGIN:VEVENT
DTSTART;TZID=America/New_York:20251008T120000
DTEND;TZID=America/New_York:20251008T130000
DTSTAMP:20260420T154130
CREATED:20250915T140001Z
LAST-MODIFIED:20250915T180015Z
UID:4702-1759924800-1759928400@bioe.northeastern.edu
SUMMARY:BIOE Seminar Series - Fall 2025
DESCRIPTION:The Bioengineering Fall Seminar Series features internal and external faculty seminar speakers on a weekly basis. Faculty seminars will predominately be on Wednesdays\, with the occasional Friday occurrence. Other Friday slots will host Bioengineering PhD Student seminars. See below for the working faculty seminar schedule\, all are welcome. \nWednesdays\, 12-1pm in 168 Snell Engineering or Fridays\, 12-1pm in 010 Behrakis  \n  \nSEPTEMBER  \n\n9/3: Mona Minkara\, PhD\, Assistant Professor of Bioengineering\, Northeastern University \nFriday\, 9/5: Abbas Yaseen\, PhD\, Assistant Professor of Bioengineering\, Northeastern University \n9/10: Qianqian Fang\, PhD\, Associate Professor of Bioengineering\, Northeastern University \nFriday\, 9/12: Ambika Bajpayee\, PhD\, Associate Professor of Bioengineering\, Northeastern University \n9/17: Silvi Rouskin\, PhD\, Assistant Professor of Microbiology\, Harvard University \n9/24: Nisha Iyer\, PhD\, Assistant Professor of Biomedical Engineering\, Tufts University \nFriday\, 9/26: George Engelmayr\, PhD\, Industry: Founder and CEO\, Cultivated Biomaterials & Vasavance \n\nOCTOBER  \n\n10/1: Joe Larkin\, PhD\, Assistant Professor of Biology and Physics\, Boston University \n10/8: None\, WIP \n10/15: None \n10/22: None \n10/29: Sufeng Zhang\, PhD\, Assistant Professor of Biomedical Engineering\, Stony Brook \n\nNOVEMBER  \n\n11/5: Larry Bonassar\, PhD\, Professor in Biomedical Engineering\, Cornell University \n11/12: None \n11/19: Marjan Rafat\, PhD\, Collab with ChemE: Assistant Professor of Chemical and Biomolecular Engineering\, Vanderbilt University \n11/26: Thanksgiving \n\nDECEMBER  \n\n12/3: Hadi Nia\, PhD\, Assistant Professor of Biomedical Engineering\, Boston University \n12/10: Erel Levine\, PhD\, Associate Professor of Bioengineering\, Northeastern University 
URL:https://bioe.northeastern.edu/event/bioe-seminar-series-fall-2025/2025-10-08/
LOCATION:168 SN\, 360 Huntington Ave\, Boston\, MA\, 02115\, United States
ORGANIZER;CN="Bioengineering":MAILTO:bioe@northeastern.edu
END:VEVENT
END:VCALENDAR