BEGIN:VCALENDAR
VERSION:2.0
PRODID:-//Department of Bioengineering - ECPv6.15.18//NONSGML v1.0//EN
CALSCALE:GREGORIAN
METHOD:PUBLISH
X-WR-CALNAME:Department of Bioengineering
X-ORIGINAL-URL:https://bioe.northeastern.edu
X-WR-CALDESC:Events for Department of Bioengineering
REFRESH-INTERVAL;VALUE=DURATION:PT1H
X-Robots-Tag:noindex
X-PUBLISHED-TTL:PT1H
BEGIN:VTIMEZONE
TZID:America/New_York
BEGIN:DAYLIGHT
TZOFFSETFROM:-0500
TZOFFSETTO:-0400
TZNAME:EDT
DTSTART:20210314T070000
END:DAYLIGHT
BEGIN:STANDARD
TZOFFSETFROM:-0400
TZOFFSETTO:-0500
TZNAME:EST
DTSTART:20211107T060000
END:STANDARD
BEGIN:DAYLIGHT
TZOFFSETFROM:-0500
TZOFFSETTO:-0400
TZNAME:EDT
DTSTART:20220313T070000
END:DAYLIGHT
BEGIN:STANDARD
TZOFFSETFROM:-0400
TZOFFSETTO:-0500
TZNAME:EST
DTSTART:20221106T060000
END:STANDARD
BEGIN:DAYLIGHT
TZOFFSETFROM:-0500
TZOFFSETTO:-0400
TZNAME:EDT
DTSTART:20230312T070000
END:DAYLIGHT
BEGIN:STANDARD
TZOFFSETFROM:-0400
TZOFFSETTO:-0500
TZNAME:EST
DTSTART:20231105T060000
END:STANDARD
END:VTIMEZONE
BEGIN:VEVENT
DTSTART;TZID=America/New_York:20220629T120000
DTEND;TZID=America/New_York:20220629T143000
DTSTAMP:20260420T195809
CREATED:20220622T010230Z
LAST-MODIFIED:20220622T010230Z
UID:2979-1656504000-1656513000@bioe.northeastern.edu
SUMMARY:CILS Seminar & Demo: Nanosurf Drive AFM
DESCRIPTION:Come learn about Nanosurf’s DriveAFM\, a tip-scanning atomic force microscope used for all areas of applications from materials to life science. \nAn instrument demonstration will follow in the CILS Core Facility in the ISEC basement\, 090 from 1:30-2:30pm. \nThe DriveAFM overcomes drawbacks of other tip-scanning instruments and provides atomic resolution together with fast scanning\, fast force spectroscopy\, and large scan sizes up to 100 µm. \n  \nTopic: CILS Seminar & Demo: Nanosurf DriveAFM\nTime: Jun 29\, 2022 12:00 PM Eastern Time (US and Canada) \nJoin Zoom Meeting\nhttps://northeastern.zoom.us/j/91205821278 \nMeeting ID: 912 0582 1278\nOne tap mobile\n+13017158592\,\,91205821278# US (Washington DC)\n+13126266799\,\,91205821278# US (Chicago) \nJoin by Skype for Business\nhttps://northeastern.zoom.us/skype/91205821278 \n 
URL:https://bioe.northeastern.edu/event/cils-seminar-demo-nanosurf-drive-afm/
LOCATION:136 ISEC\, 360 Huntington Ave\, 136 ISEC\, Boston\, MA\, 02115\, United States
GEO:42.3401758;-71.0892797
X-APPLE-STRUCTURED-LOCATION;VALUE=URI;X-ADDRESS=136 ISEC 360 Huntington Ave 136 ISEC Boston MA 02115 United States;X-APPLE-RADIUS=500;X-TITLE=360 Huntington Ave\, 136 ISEC:geo:-71.0892797,42.3401758
END:VEVENT
END:VCALENDAR