BEGIN:VCALENDAR
VERSION:2.0
PRODID:-//Department of Bioengineering - ECPv6.15.20//NONSGML v1.0//EN
CALSCALE:GREGORIAN
METHOD:PUBLISH
X-WR-CALNAME:Department of Bioengineering
X-ORIGINAL-URL:https://bioe.northeastern.edu
X-WR-CALDESC:Events for Department of Bioengineering
REFRESH-INTERVAL;VALUE=DURATION:PT1H
X-Robots-Tag:noindex
X-PUBLISHED-TTL:PT1H
BEGIN:VTIMEZONE
TZID:America/New_York
BEGIN:DAYLIGHT
TZOFFSETFROM:-0500
TZOFFSETTO:-0400
TZNAME:EDT
DTSTART:20180311T070000
END:DAYLIGHT
BEGIN:STANDARD
TZOFFSETFROM:-0400
TZOFFSETTO:-0500
TZNAME:EST
DTSTART:20181104T060000
END:STANDARD
BEGIN:DAYLIGHT
TZOFFSETFROM:-0500
TZOFFSETTO:-0400
TZNAME:EDT
DTSTART:20190310T070000
END:DAYLIGHT
BEGIN:STANDARD
TZOFFSETFROM:-0400
TZOFFSETTO:-0500
TZNAME:EST
DTSTART:20191103T060000
END:STANDARD
BEGIN:DAYLIGHT
TZOFFSETFROM:-0500
TZOFFSETTO:-0400
TZNAME:EDT
DTSTART:20200308T070000
END:DAYLIGHT
BEGIN:STANDARD
TZOFFSETFROM:-0400
TZOFFSETTO:-0500
TZNAME:EST
DTSTART:20201101T060000
END:STANDARD
BEGIN:DAYLIGHT
TZOFFSETFROM:-0500
TZOFFSETTO:-0400
TZNAME:EDT
DTSTART:20210314T070000
END:DAYLIGHT
BEGIN:STANDARD
TZOFFSETFROM:-0400
TZOFFSETTO:-0500
TZNAME:EST
DTSTART:20211107T060000
END:STANDARD
BEGIN:DAYLIGHT
TZOFFSETFROM:-0500
TZOFFSETTO:-0400
TZNAME:EDT
DTSTART:20220313T070000
END:DAYLIGHT
BEGIN:STANDARD
TZOFFSETFROM:-0400
TZOFFSETTO:-0500
TZNAME:EST
DTSTART:20221106T060000
END:STANDARD
BEGIN:DAYLIGHT
TZOFFSETFROM:-0500
TZOFFSETTO:-0400
TZNAME:EDT
DTSTART:20230312T070000
END:DAYLIGHT
BEGIN:STANDARD
TZOFFSETFROM:-0400
TZOFFSETTO:-0500
TZNAME:EST
DTSTART:20231105T060000
END:STANDARD
BEGIN:DAYLIGHT
TZOFFSETFROM:-0500
TZOFFSETTO:-0400
TZNAME:EDT
DTSTART:20240310T070000
END:DAYLIGHT
BEGIN:STANDARD
TZOFFSETFROM:-0400
TZOFFSETTO:-0500
TZNAME:EST
DTSTART:20241103T060000
END:STANDARD
BEGIN:DAYLIGHT
TZOFFSETFROM:-0500
TZOFFSETTO:-0400
TZNAME:EDT
DTSTART:20250309T070000
END:DAYLIGHT
BEGIN:STANDARD
TZOFFSETFROM:-0400
TZOFFSETTO:-0500
TZNAME:EST
DTSTART:20251102T060000
END:STANDARD
END:VTIMEZONE
BEGIN:VEVENT
DTSTART;TZID=America/New_York:20241010T170000
DTEND;TZID=America/New_York:20241010T190000
DTSTAMP:20260425T105323
CREATED:20240806T175016Z
LAST-MODIFIED:20240806T175016Z
UID:4090-1728579600-1728586800@bioe.northeastern.edu
SUMMARY:SOURCE\, the Showcase of Opportunities for Undergraduate Research and Creative Endeavor
DESCRIPTION:Learn more about what cutting-edge research and creative endeavors look like at Northeastern. Talk one-on-one with faculty from across the colleges about their work – and learn how you can get involved in projects during your time at Northeastern. \nSOURCE is a collaboration between Bouvé College of Health Sciences; College of Arts\, Media and Design; College of Engineering; College of Science; College of Social Sciences and Humanities; D’Amore-McKim School of Business; and Khoury College of Computer Science. It is coordinated by Undergraduate Research and Fellowships on behalf of the Office of the Chancellor. \nPlease write to URF@Northeastern.edu with any questions.
URL:https://bioe.northeastern.edu/event/source-the-showcase-of-opportunities-for-undergraduate-research-and-creative-endeavor-2/
LOCATION:Curry Student Center\, 360 Huntington Ave.\, Boston\, MA\, 02115\, United States
GEO:42.3394629;-71.0885286
X-APPLE-STRUCTURED-LOCATION;VALUE=URI;X-ADDRESS=Curry Student Center 360 Huntington Ave. Boston MA 02115 United States;X-APPLE-RADIUS=500;X-TITLE=360 Huntington Ave.:geo:-71.0885286,42.3394629
END:VEVENT
BEGIN:VEVENT
DTSTART;TZID=America/New_York:20231003T113000
DTEND;TZID=America/New_York:20231003T130000
DTSTAMP:20260425T105323
CREATED:20231116T211433Z
LAST-MODIFIED:20231116T212238Z
UID:3610-1696332600-1696338000@bioe.northeastern.edu
SUMMARY:Hispanic Heritage Month Lunch Gathering
DESCRIPTION:Join the Department of Bioengineering for a celebration of Hispanic Heritage Month\, catering from Orinoco and music included! \n11:30am – 1:00pm\nTuesday\, October 3rd\nMcleod Suites\nin the Curry Student Center
URL:https://bioe.northeastern.edu/event/hispanic-heritage-month-lunch-gathering/
LOCATION:Curry Student Center\, 360 Huntington Ave.\, Boston\, MA\, 02115\, United States
ORGANIZER;CN="Bioengineering":MAILTO:bioe@northeastern.edu
GEO:42.3394629;-71.0885286
X-APPLE-STRUCTURED-LOCATION;VALUE=URI;X-ADDRESS=Curry Student Center 360 Huntington Ave. Boston MA 02115 United States;X-APPLE-RADIUS=500;X-TITLE=360 Huntington Ave.:geo:-71.0885286,42.3394629
END:VEVENT
BEGIN:VEVENT
DTSTART;TZID=America/New_York:20230227T130000
DTEND;TZID=America/New_York:20230227T150000
DTSTAMP:20260425T105323
CREATED:20230131T200745Z
LAST-MODIFIED:20230131T200745Z
UID:3228-1677502800-1677510000@bioe.northeastern.edu
SUMMARY:COE PhD Research Expo
DESCRIPTION:The College of Engineering is excited to announce the fifth annual COE PhD Research Expo\, and we invite all COE PhD students to submit a poster abstract. The expo is an excellent opportunity for your students to highlight their research and gain presentation experience before RISE. \nEvent:   COE PhD Research Expo\nDate:     Monday\, February 27\, 2023\nTime:    1:00pm – 3:00pm\nPlace:    McLeod Suites – Curry Student Center \nThe expo will take place following National Engineer’s Week. \nStudent Abstracts: \nPlease encourage your PhD students to submit poster abstracts by February 10\, 2023. The COE Communications Lab will offer interested students a poster preparation and presentation workshop early February. We will send details of the workshop to students soon. \nFaculty Judges: \nWe are looking for around ten faculty members to serve as judges. If you are available to judge between 1:30pm and 3:00pm on Monday\, February 27th please reach out to Taryn Urbanus (t.urbanus@northeastern.edu) by Friday\, February 17th. \n 
URL:https://bioe.northeastern.edu/event/coe-phd-research-expo/
LOCATION:Curry Student Center\, 360 Huntington Ave.\, Boston\, MA\, 02115\, United States
GEO:42.3394629;-71.0885286
X-APPLE-STRUCTURED-LOCATION;VALUE=URI;X-ADDRESS=Curry Student Center 360 Huntington Ave. Boston MA 02115 United States;X-APPLE-RADIUS=500;X-TITLE=360 Huntington Ave.:geo:-71.0885286,42.3394629
END:VEVENT
BEGIN:VEVENT
DTSTART;TZID=America/New_York:20221202T080000
DTEND;TZID=America/New_York:20221202T170000
DTSTAMP:20260425T105323
CREATED:20220824T182336Z
LAST-MODIFIED:20220824T182336Z
UID:3031-1669968000-1670000400@bioe.northeastern.edu
SUMMARY:First Year Engineering Expo
DESCRIPTION:Please come to the Curry Student Center indoor quad and pit on Friday\, December 2nd to see Northeastern’s First-Year Engineering Students’ inventive projects\, games\, and exhibits. \nStudents will showcase original board games\, interactive projects geared to teach children sustainability concepts\, and prolific prototypes to help solve a wide range of problems. \nEach project applies the engineering concepts introduced this past semester\, which includes the Engineering Design Process\, Solidworks\, AutoCAD\, Programming with C++ and Matlab\, and controlling microelectronics with Arduino.
URL:https://bioe.northeastern.edu/event/first-year-engineering-expo-3/
LOCATION:Curry Student Center\, 360 Huntington Ave.\, Boston\, MA\, 02115\, United States
GEO:42.3394629;-71.0885286
X-APPLE-STRUCTURED-LOCATION;VALUE=URI;X-ADDRESS=Curry Student Center 360 Huntington Ave. Boston MA 02115 United States;X-APPLE-RADIUS=500;X-TITLE=360 Huntington Ave.:geo:-71.0885286,42.3394629
END:VEVENT
BEGIN:VEVENT
DTSTART;TZID=America/New_York:20211006T170000
DTEND;TZID=America/New_York:20211006T200000
DTSTAMP:20260425T105323
CREATED:20210929T180818Z
LAST-MODIFIED:20210929T181335Z
UID:2477-1633539600-1633550400@bioe.northeastern.edu
SUMMARY:Showcase of Opportunities for Undergraduate Research and Creative Endeavor (SOURCE)
DESCRIPTION:Calling all Huskies! Learn more about what cutting-edge research and creative endeavor look like at Northeastern. This is your chance to talk one-on-one with faculty from across the colleges about their research – and how you can get involved in projects during your time at Northeastern. Not everyone will have open positions right now but you’ll get a chance to see the range of work that’s happening and begin to make connections that you can build for the rest of your time at Northeastern. \nBefore you attend\, here’s some advice to consider. \n\nTake a look and see who’ll be there. We have an online database of attendees. Go through it and learn more about the project areas and visit the researcher/creative practitioner web pages. This will help prepare you for a conversation and help you ask any questions you might have.\nGet ready for a conversation from your end. Think about goals you have \, as well as your current interests and skills and those that you want to develop. How does what you have read about the various projects align with what you know about yourself and your interests? Take a minute to practice a simple declarative sentence\, “My name is ____________. I study ____________. I think that this part of your work ____________ is interesting because of this intellectual reason/moral imperative/grand impact ____________.  I’d love to learn more about it because of this previous experience ____________ and these skills ____________ and my long-term interest in ____________.  How I can get involved?” You might not know how to fill in all of the blanks right now (that’s why you’re in school) but see how close you can get.  When you know who you are\, what you value\, and how you can contribute — and get some practice saying it out loud– being confident becomes easier.\nRemember\, not every faculty member will have open positions now — but a good impression lasts a long time. You can’t go wrong with being polite and courteous.   Address faculty members as Professor until told otherwise (better to err on the side of formality).\nKeep in mind your time! If you want to be involved in research or creative practice\, a good thing to keep in mind is that faculty members will commit a lot of time to training and mentoring their undergraduates. They’re investing time\, energy\, and expertise in their mentees and want to know that you will make time for the projects\, show up consistently\, and ideally be with them for longer than a semester if possible. The learning curve of most projects is steep and it takes some time to get to the meatiest parts of the work. Be honest with yourself about the commitment you can make\, be frank with your faculty mentors\, and stick to your word. Communication and honesty in relationships\, including the mentoring relationship\, is key.\n\nSOURCE is a collaboration between Bouvé College of Health Sciences; College of Arts\, Media and Design; College of Engineering; College of Science; College of Social Sciences and Humanities; D’Amore-McKim School of Business; and Khoury College of Computer Science. It is coordinated by Undergraduate Research and Fellowships on behalf of the Office of the Chancellor.
URL:https://bioe.northeastern.edu/event/showcase-of-opportunities-for-undergraduate-research-and-creative-endeavor/
LOCATION:Curry Student Center\, 360 Huntington Ave.\, Boston\, MA\, 02115\, United States
GEO:42.3394629;-71.0885286
X-APPLE-STRUCTURED-LOCATION;VALUE=URI;X-ADDRESS=Curry Student Center 360 Huntington Ave. Boston MA 02115 United States;X-APPLE-RADIUS=500;X-TITLE=360 Huntington Ave.:geo:-71.0885286,42.3394629
END:VEVENT
BEGIN:VEVENT
DTSTART;TZID=America/New_York:20200220T100000
DTEND;TZID=America/New_York:20200220T120000
DTSTAMP:20260425T105323
CREATED:20200128T012312Z
LAST-MODIFIED:20200207T005053Z
UID:1819-1582192800-1582200000@bioe.northeastern.edu
SUMMARY:Engineers Week: PhD Engineering Research Expo
DESCRIPTION:Experience innovation firsthand! Engineering PhD students show their research in cutting-edge areas\, from robotics\, computer vision and biomechanics to nanomedicine\, cell- tissue engineering\, and machine learning\, at the second annual poster/oral presentation research exposition. Let the competition begin! \nCurry Student Center Ballroom
URL:https://bioe.northeastern.edu/event/engineers-week-phd-engineering-research-expo/
LOCATION:Curry Student Center\, 360 Huntington Ave.\, Boston\, MA\, 02115\, United States
ORGANIZER;CN="Graduate School of Engineering":MAILTO:coe-gradadmissions@northeastern.edu
GEO:42.3394629;-71.0885286
X-APPLE-STRUCTURED-LOCATION;VALUE=URI;X-ADDRESS=Curry Student Center 360 Huntington Ave. Boston MA 02115 United States;X-APPLE-RADIUS=500;X-TITLE=360 Huntington Ave.:geo:-71.0885286,42.3394629
END:VEVENT
BEGIN:VEVENT
DTSTART;TZID=America/New_York:20200219T120000
DTEND;TZID=America/New_York:20200219T130000
DTSTAMP:20260425T105323
CREATED:20200131T213332Z
LAST-MODIFIED:20200207T005412Z
UID:1845-1582113600-1582117200@bioe.northeastern.edu
SUMMARY:Engineers Week: Engineering a Long-lasting Pill
DESCRIPTION:Location: 333 Curry Student Center \nHelen Markewich\, Bioengineering Assistant Teaching Professor\, Northeastern University \nDr. Ambika Bajpayee\, Bioengineering Assistant Professor\, Northeastern University \nEngineering a Long-lasting Pill \nAssistant Professor Ambika Bajpayee in the Department of Bioengineering is working to develop a pill that unfolds to a structure in the stomach too large to pass to the small intestine. This way\, the pill remains in the stomach for a month\, slowly releasing medication in the face of mechanical and chemical digestive forces. In this event\, Prof Bajpayee will present her work on this new type of pill. Then\, Prof Bajpayee and Prof Markewich will show attendees how to create their own “pill” according to a set of design constraints. Attendees will observe how their design unfolds in a “stomach”. \nDr. Ambika Bajpayee works on drug delivery to connective and charged tissues such as cartilage\, meniscus\, intervertebral disc and mucosal membranes. Her lab utilizes concepts of nanomedicine and bio-electrostatics to design polypeptides and protein-based carriers for targeted and sustained delivery of small molecule drugs\, protein growth factors\, antibodies and genetic materials to specific intra-tissue and intra-cellular target sites inside connective tissues. A main focus is on using charge interactions and other binding mechanisms to rationally design drug carriers that can penetrate through the dense matrix of avascular\, negatively charged tissues. Her lab is also interested in understanding mechanisms leading to degenerative joint diseases (e.g.\, osteoarthritis) due to ageing and traumatic injuries. The group strives to combine basic science with translational research to develop biomedical technologies. \nDr. Helen Markewich is an Assistant Teaching Professor at Northeastern University in Boston\, MA.  Her specialty is lab-based and hands-on learning.  She received her PhD from Cornell University and her BS from Georgia Tech.  She also worked in biotech and in the water industry.
URL:https://bioe.northeastern.edu/event/engineers-week-engineering-a-long-lasting-pill/
LOCATION:Curry Student Center\, 360 Huntington Ave.\, Boston\, MA\, 02115\, United States
ORGANIZER;CN="Bioengineering":MAILTO:bioe@northeastern.edu
GEO:42.3394629;-71.0885286
X-APPLE-STRUCTURED-LOCATION;VALUE=URI;X-ADDRESS=Curry Student Center 360 Huntington Ave. Boston MA 02115 United States;X-APPLE-RADIUS=500;X-TITLE=360 Huntington Ave.:geo:-71.0885286,42.3394629
END:VEVENT
BEGIN:VEVENT
DTSTART;TZID=America/New_York:20200212T100000
DTEND;TZID=America/New_York:20200212T143000
DTSTAMP:20260425T105323
CREATED:20200204T202616Z
LAST-MODIFIED:20200204T202616Z
UID:1853-1581501600-1581517800@bioe.northeastern.edu
SUMMARY:BMES/AIChE Co-op-Career Fair
DESCRIPTION:The BMES/ AIChE Co–op Career fair will be held in the Curry Student Center Ballroom from 10am – 2:30pm on Wednesday\, February 12th. This is a great opportunity to meet employers hiring for the Fall 2020 cycle\, especially employers you may have already applied to for co-op. \n 
URL:https://bioe.northeastern.edu/event/bmes-aiche-co-op-career-fair/
LOCATION:Curry Student Center\, 360 Huntington Ave.\, Boston\, MA\, 02115\, United States
ORGANIZER;CN="Bioengineering":MAILTO:bioe@northeastern.edu
GEO:42.3394629;-71.0885286
X-APPLE-STRUCTURED-LOCATION;VALUE=URI;X-ADDRESS=Curry Student Center 360 Huntington Ave. Boston MA 02115 United States;X-APPLE-RADIUS=500;X-TITLE=360 Huntington Ave.:geo:-71.0885286,42.3394629
END:VEVENT
BEGIN:VEVENT
DTSTART;TZID=America/New_York:20191007T173000
DTEND;TZID=America/New_York:20191007T193000
DTSTAMP:20260425T105323
CREATED:20190925T183557Z
LAST-MODIFIED:20190925T183557Z
UID:1727-1570469400-1570476600@bioe.northeastern.edu
SUMMARY:AIChE & BMES Undergraduate Co-op Career Fair
DESCRIPTION:The 21st Bi-Annual Undergraduate AIChE & BMES Co-op Career Fair will be held on October 7th\, 2019 in the Curry Student Ballroom from 5:30-7:30pm. \nCome meet your next co-op employer! Learn about your bio/chemical engineering co-op opportunities.  Don’t forget to practice that elevator speech!  Make sure your resume is pristine before meeting your next potential co-op company. \nBusiness formal or business casual attire is mandatory.
URL:https://bioe.northeastern.edu/event/aiche-bmes-undergraduate-co-op-career-fair/
LOCATION:Curry Student Center\, 360 Huntington Ave.\, Boston\, MA\, 02115\, United States
ORGANIZER;CN="Bioengineering":MAILTO:bioe@northeastern.edu
GEO:42.3394629;-71.0885286
X-APPLE-STRUCTURED-LOCATION;VALUE=URI;X-ADDRESS=Curry Student Center 360 Huntington Ave. Boston MA 02115 United States;X-APPLE-RADIUS=500;X-TITLE=360 Huntington Ave.:geo:-71.0885286,42.3394629
END:VEVENT
BEGIN:VEVENT
DTSTART;TZID=America/New_York:20190926T180000
DTEND;TZID=America/New_York:20190926T200000
DTSTAMP:20260425T105323
CREATED:20190918T235746Z
LAST-MODIFIED:20190918T235829Z
UID:1723-1569520800-1569528000@bioe.northeastern.edu
SUMMARY:COE/COS STEM Clubs/Organization Fair
DESCRIPTION:Find out what student groups are all about & meet some of the students involved! Win raffle prizes and enjoy refreshments in the Curry Student Center Indoor Quad. \n\nEvent organized by the following student groups: \n\n\n\nAmerican Institute of Chemical Engineers\nAmerican Society of Civil Engineers\nAmerican Society of Mechanical Engineers\nSociety of Hispanic Professional Engineers\nInstitute of Electrical & Electronics Engineers\nAerospaceNU\nNew England Water Environment Association\nNu Rho Psi National Honor Society\nWireless Club\nStudents for the Exploration and Development of Space\nMakers Club\nSociety of Women Engineers\nEngineers Without Borders\nEnabling Engineering\nNUTRONS – FIRST Robotics\nNURobotics\nNU BAJA\nITE\nFormula SAE Electric\nNU Psych Club\nNEU Biology Club\nGalante Engineering Business Program\nSTEMout\nBlack Engineering Student Society\nGenerate\nInternational Society of Pharmaceutical Engineers\nNUToys\nNU Virtual Reality\nTerra Society\nInstitute of Industrial and Systems Engineers\nSociety of Asian Scientists and Engineers\nEMBARK – Undergraduate Engineering Journal\nInnovators for World Health\nNUSound\nRoxbury Robotics
URL:https://bioe.northeastern.edu/event/coe-cos-stem-clubs-organization-fair/
LOCATION:Curry Student Center\, 360 Huntington Ave.\, Boston\, MA\, 02115\, United States
ORGANIZER;CN="Undergraduate Academic Advising":MAILTO:COEAdvising@northeastern.edu
GEO:42.3394629;-71.0885286
X-APPLE-STRUCTURED-LOCATION;VALUE=URI;X-ADDRESS=Curry Student Center 360 Huntington Ave. Boston MA 02115 United States;X-APPLE-RADIUS=500;X-TITLE=360 Huntington Ave.:geo:-71.0885286,42.3394629
END:VEVENT
BEGIN:VEVENT
DTSTART;TZID=America/New_York:20190925T180000
DTEND;TZID=America/New_York:20190925T193000
DTSTAMP:20260425T105323
CREATED:20190909T230714Z
LAST-MODIFIED:20190910T002008Z
UID:1695-1569434400-1569439800@bioe.northeastern.edu
SUMMARY:SOURCE: Showcase of Opportunities for Undergraduate Research and Creative Endeavor
DESCRIPTION:Undergraduate research experience is a great opportunity for you to learn valuable knowledge and skills while contributing to the technology of the future. Additionally\, you may be eligible to earn academic credit\, a stipend\, or work study (if you’re eligible). \nCurious to learn more about opportunities for undergrads to do research in COE’s many cutting-edge research centers and labs?   \nAttend the SOURCE (Showcase of Opportunities for Undergraduate Research and Creative Endeavor) – Wednesday\, September 25\, 6-7:30pm\, Curry Student Center). This informal recruiting event is an opportunity for you to talk with faculty and students from 100+ on-campus labs and research centers about their current work and upcoming projects for which they are seeking undergraduate researchers. \nThis event is free for all undergraduate students. We look forward to seeing you there!
URL:https://bioe.northeastern.edu/event/source-showcase-of-opportunities-for-undergraduate-research-and-creative-endeavor/
LOCATION:Curry Student Center\, 360 Huntington Ave.\, Boston\, MA\, 02115\, United States
GEO:42.3394629;-71.0885286
X-APPLE-STRUCTURED-LOCATION;VALUE=URI;X-ADDRESS=Curry Student Center 360 Huntington Ave. Boston MA 02115 United States;X-APPLE-RADIUS=500;X-TITLE=360 Huntington Ave.:geo:-71.0885286,42.3394629
END:VEVENT
END:VCALENDAR